BEGIN:VCALENDAR
VERSION:2.0
PRODID:-//The Boro - ECPv6.15.20//NONSGML v1.0//EN
CALSCALE:GREGORIAN
METHOD:PUBLISH
X-WR-CALNAME:The Boro
X-ORIGINAL-URL:https://theboro.ca
X-WR-CALDESC:Events for The Boro
REFRESH-INTERVAL;VALUE=DURATION:PT1H
X-Robots-Tag:noindex
X-PUBLISHED-TTL:PT1H
BEGIN:VTIMEZONE
TZID:America/Toronto
BEGIN:DAYLIGHT
TZOFFSETFROM:-0500
TZOFFSETTO:-0400
TZNAME:EDT
DTSTART:20240310T070000
END:DAYLIGHT
BEGIN:STANDARD
TZOFFSETFROM:-0400
TZOFFSETTO:-0500
TZNAME:EST
DTSTART:20241103T060000
END:STANDARD
BEGIN:DAYLIGHT
TZOFFSETFROM:-0500
TZOFFSETTO:-0400
TZNAME:EDT
DTSTART:20250309T070000
END:DAYLIGHT
BEGIN:STANDARD
TZOFFSETFROM:-0400
TZOFFSETTO:-0500
TZNAME:EST
DTSTART:20251102T060000
END:STANDARD
BEGIN:DAYLIGHT
TZOFFSETFROM:-0500
TZOFFSETTO:-0400
TZNAME:EDT
DTSTART:20260308T070000
END:DAYLIGHT
BEGIN:STANDARD
TZOFFSETFROM:-0400
TZOFFSETTO:-0500
TZNAME:EST
DTSTART:20261101T060000
END:STANDARD
END:VTIMEZONE
BEGIN:VEVENT
DTSTART;TZID=America/Toronto:20250611T180000
DTEND;TZID=America/Toronto:20250611T210000
DTSTAMP:20260420T125418
CREATED:20250407T132845Z
LAST-MODIFIED:20250417T184839Z
UID:10000671-1749664800-1749675600@theboro.ca
SUMMARY:Board Together: LGBTQ+ Board Game Meetup
DESCRIPTION:Board Together is an LGBTQ+ board game group that gets together on the second Wednesday of every month at the Boardwalk Board Game Lounge! \nJoin us at 6pm at The Boardwalk Board Game Lounge in downtown Peterborough for our first ever meetup! Connect with other people in the LGBTQ+ community\, play some fun games\, and maybe have yourself one of The Boardwalk’s amazing cookies while you’re at it.🍪If you can’t make it for 6\, feel free to drop in later! \nNo board game experience needed\, just drop in and folks will be happy to teach you! If you haven’t visited The BoardwaIk before\, it costs $8 to stay and play as long as you like. It’s a licensed restaurant in addition to having a huge selection of games.
URL:https://theboro.ca/event/board-together-lgbtq-board-game-meetup/2025-06-11/
LOCATION:Boardwalk Board Game Lounge\, 261 George Street North\, Peterborough\, K9J 3G9\, Canada
CATEGORIES:Do Events
ATTACH;FMTTYPE=image/png:https://theboro.ca/wp-content/uploads/2025/04/Untitled-12.png
ORGANIZER;CN="Boardwalk Board Game Lounge":MAILTO:play@boardwalkptbo.ca
END:VEVENT
BEGIN:VEVENT
DTSTART;TZID=America/Toronto:20250605T190000
DTEND;TZID=America/Toronto:20250605T203000
DTSTAMP:20260420T125418
CREATED:20250530T132510Z
LAST-MODIFIED:20250530T132510Z
UID:10000790-1749150000-1749155400@theboro.ca
SUMMARY:New Stages Presents: Fireside Munsch
DESCRIPTION:Adapted and performed by M. John Kennedy.\nDirected by Dahlia Katz. \nExperience this theatrical re-telling of classic Robert Munsch stories like Paperbag Princess and Mortimer\, adapted and performed by M. John Kennedy. \nFireside Munsch is a high-energy\, high-quality one-person show that has been performed all over the province. Nominated for 8 Dora Mavor Moore Awards in Toronto! \nRuns approx. 45-55 minutes.\nRecommended ages: 5+
URL:https://theboro.ca/event/new-stages-presents-fireside-munsch/
ORGANIZER;CN="New Stages Theatre":MAILTO:info@newstages.ca
END:VEVENT
BEGIN:VEVENT
DTSTART;TZID=America/Toronto:20250514T180000
DTEND;TZID=America/Toronto:20250514T210000
DTSTAMP:20260420T125418
CREATED:20250407T132845Z
LAST-MODIFIED:20250417T184839Z
UID:10000670-1747245600-1747256400@theboro.ca
SUMMARY:Board Together: LGBTQ+ Board Game Meetup
DESCRIPTION:Board Together is an LGBTQ+ board game group that gets together on the second Wednesday of every month at the Boardwalk Board Game Lounge! \nJoin us at 6pm at The Boardwalk Board Game Lounge in downtown Peterborough for our first ever meetup! Connect with other people in the LGBTQ+ community\, play some fun games\, and maybe have yourself one of The Boardwalk’s amazing cookies while you’re at it.🍪If you can’t make it for 6\, feel free to drop in later! \nNo board game experience needed\, just drop in and folks will be happy to teach you! If you haven’t visited The BoardwaIk before\, it costs $8 to stay and play as long as you like. It’s a licensed restaurant in addition to having a huge selection of games.
URL:https://theboro.ca/event/board-together-lgbtq-board-game-meetup/2025-05-14/
LOCATION:Boardwalk Board Game Lounge\, 261 George Street North\, Peterborough\, K9J 3G9\, Canada
CATEGORIES:Do Events
ATTACH;FMTTYPE=image/png:https://theboro.ca/wp-content/uploads/2025/04/Untitled-12.png
ORGANIZER;CN="Boardwalk Board Game Lounge":MAILTO:play@boardwalkptbo.ca
END:VEVENT
BEGIN:VEVENT
DTSTART;TZID=America/Toronto:20250507T200000
DTEND;TZID=America/Toronto:20250507T213000
DTSTAMP:20260420T125418
CREATED:20250509T150439Z
LAST-MODIFIED:20250509T150439Z
UID:10000762-1746648000-1746653400@theboro.ca
SUMMARY:Gob at Musicfest - Free Concert
DESCRIPTION:Get ready to rock! Canadian punk legends Gob are hitting the Fred Anderson Stage at Peterborough Musicfest for the very first time. Known for high-energy hits like “I Hear You Calling” and “That’s The Way\,” Gob’s infectious punk sound helped define Canadian rock in the late ’90s and early 2000s. \nFormed in 1993\, Gob gained fame with albums like Too Late… No Friends and the Gold-certified The World According to Gob\, earning a JUNO nomination and inspiring a new generation of rock fans. Their powerful blend of catchy punk hooks and raw energy has stood the test of time. \nFrontman Tom Thacker is also a member of multi-platinum rock group Sum 41\, showcasing his wide musical influence. \nWhether you first heard them on the radio\, blasting through video game soundtracks\, or at a live show\, Gob’s music remains a fan favourite. This FREE lakeside concert is your chance to experience one of Canada’s most iconic punk bands\, live and loud!
URL:https://theboro.ca/event/gob-at-musicfest-free-concert-2/
LOCATION:Del Crary Park\, 100 George Street N\, Peterborough\, K9J 3G9\, Canada
CATEGORIES:Do Events
END:VEVENT
BEGIN:VEVENT
DTSTART;TZID=America/Toronto:20250502T180000
DTEND;TZID=America/Toronto:20250502T230000
DTSTAMP:20260420T125418
CREATED:20250407T152716Z
LAST-MODIFIED:20250508T163949Z
UID:10000005-1746208800-1746226800@theboro.ca
SUMMARY:First Friday Art Crawl
DESCRIPTION:The art crawl is a self-guided tour of downtown galleries\, studios\, shops\, and cafés that takes place on the first Friday of every month\, between the hours of 6pm-11pm. The best way to experience the Art Crawl is to set out on foot and explore. Every month is different! \nClick here to view the schedule
URL:https://theboro.ca/event/test-event-4-2/
LOCATION:Various Locations
CATEGORIES:Do Events
ATTACH;FMTTYPE=image/jpeg:https://theboro.ca/wp-content/uploads/2024/10/4Q0A8277-scaled.jpg
END:VEVENT
BEGIN:VEVENT
DTSTART;TZID=America/Toronto:20250409T180000
DTEND;TZID=America/Toronto:20250409T210000
DTSTAMP:20260420T125418
CREATED:20250407T132845Z
LAST-MODIFIED:20250417T184839Z
UID:10000669-1744221600-1744232400@theboro.ca
SUMMARY:Board Together: LGBTQ+ Board Game Meetup
DESCRIPTION:Board Together is an LGBTQ+ board game group that gets together on the second Wednesday of every month at the Boardwalk Board Game Lounge! \nJoin us at 6pm at The Boardwalk Board Game Lounge in downtown Peterborough for our first ever meetup! Connect with other people in the LGBTQ+ community\, play some fun games\, and maybe have yourself one of The Boardwalk’s amazing cookies while you’re at it.🍪If you can’t make it for 6\, feel free to drop in later! \nNo board game experience needed\, just drop in and folks will be happy to teach you! If you haven’t visited The BoardwaIk before\, it costs $8 to stay and play as long as you like. It’s a licensed restaurant in addition to having a huge selection of games.
URL:https://theboro.ca/event/board-together-lgbtq-board-game-meetup/2025-04-09/
LOCATION:Boardwalk Board Game Lounge\, 261 George Street North\, Peterborough\, K9J 3G9\, Canada
CATEGORIES:Do Events
ATTACH;FMTTYPE=image/png:https://theboro.ca/wp-content/uploads/2025/04/Untitled-12.png
ORGANIZER;CN="Boardwalk Board Game Lounge":MAILTO:play@boardwalkptbo.ca
END:VEVENT
END:VCALENDAR