BEGIN:VCALENDAR
VERSION:2.0
PRODID:-//The Boro - ECPv6.15.20//NONSGML v1.0//EN
CALSCALE:GREGORIAN
METHOD:PUBLISH
X-WR-CALNAME:The Boro
X-ORIGINAL-URL:https://theboro.ca
X-WR-CALDESC:Events for The Boro
REFRESH-INTERVAL;VALUE=DURATION:PT1H
X-Robots-Tag:noindex
X-PUBLISHED-TTL:PT1H
BEGIN:VTIMEZONE
TZID:America/Toronto
BEGIN:DAYLIGHT
TZOFFSETFROM:-0500
TZOFFSETTO:-0400
TZNAME:EDT
DTSTART:20250309T070000
END:DAYLIGHT
BEGIN:STANDARD
TZOFFSETFROM:-0400
TZOFFSETTO:-0500
TZNAME:EST
DTSTART:20251102T060000
END:STANDARD
BEGIN:DAYLIGHT
TZOFFSETFROM:-0500
TZOFFSETTO:-0400
TZNAME:EDT
DTSTART:20260308T070000
END:DAYLIGHT
BEGIN:STANDARD
TZOFFSETFROM:-0400
TZOFFSETTO:-0500
TZNAME:EST
DTSTART:20261101T060000
END:STANDARD
BEGIN:DAYLIGHT
TZOFFSETFROM:-0500
TZOFFSETTO:-0400
TZNAME:EDT
DTSTART:20270314T070000
END:DAYLIGHT
BEGIN:STANDARD
TZOFFSETFROM:-0400
TZOFFSETTO:-0500
TZNAME:EST
DTSTART:20271107T060000
END:STANDARD
END:VTIMEZONE
BEGIN:VEVENT
DTSTART;TZID=America/Toronto:20260401T080000
DTEND;TZID=America/Toronto:20260425T200000
DTSTAMP:20260425T093551
CREATED:20260318T162528Z
LAST-MODIFIED:20260318T162529Z
UID:10000970-1775030400-1777147200@theboro.ca
SUMMARY:Mac and Cheese Festival
DESCRIPTION:Peterborough Mac & Cheese Festival – April 1–25\, 2026 \nDowntown Peterborough is serving up the cheese! \nFrom April 1-25\, explore 20 restaurants serving bold\, creative mac & cheese dishes. From comforting classics to daring twists\, including a mac & cheese dessert… there is something for everyone to enjoy. \nVote for your favourite dish and join us for the Grand Finale Event on April 25 at Quaker Foods City Square\, featuring live music\, family-friendly activities\, and a fully licensed area for 19+. \n➡️ Click here to see the full program and participating restaurants
URL:https://theboro.ca/event/mac-and-cheese-festival/
LOCATION:Downtown Peterborough
CATEGORIES:Do Events,Eat Events
ATTACH;FMTTYPE=image/png:https://theboro.ca/wp-content/uploads/2024/10/Untitled-15-1.png
END:VEVENT
BEGIN:VEVENT
DTSTART;TZID=America/Toronto:20260425T110000
DTEND;TZID=America/Toronto:20260425T150000
DTSTAMP:20260425T093551
CREATED:20260413T143456Z
LAST-MODIFIED:20260413T182927Z
UID:10000981-1777114800-1777129200@theboro.ca
SUMMARY:Mac and Cheese Festival - Grand Finale
DESCRIPTION:Join us for the Mac and Cheese Festival Grand Finale Event – a culinary showdown with vendors\, live music\, family-friendly fun… and more! This year’s event is fully licensed. Entry is FREE! \nLocation: Quaker Square (215 Charlotte Street)\nTime: 11AM – 3PM\nArtists\nVANCAMP (12:00PM) \nMarvelous (12:30PM) \nSamara Johnson – one of this year’s Peterboroughs Got Talent winners! (1:15PM) \nDylan Ireland (1:45PM) \nSiobhan Bodrug (2:30PM) \nVendors\nThe Vine (Crab Rangoon Mac and Cheese + Mac and No Cheeze) \nAgave by Imperial (Mac Pastor) \nThe Back 40 Smokehouse (Smoked Sweet Whiskey Heat Mac and Cheese) \nCall Creations \nDreams of Beans (Dreamy Mac) \nGreat Canadian Cheese Festival \nGroovy Little Smoothie \nLa Mesita (Mexican Street Corn Mac) \nLola’s Cakes and Coffee (Biscoff and Mac Tiramisu) \nTurnbull Cafe (The French Onion Maple Mac) \nThe Revy (Mac and Cheese Benny) \nThe Boardwalk Game Lounge (Mac-Cuterie) \nThe Good Baker \nBeavertails \nThe Main Squeeze \nJudges\nVoula Halliday – Canadian Chef & Cookbook Author \nRoland Hosier \nCairo McDonell – Fresh Radio Morning Show Host
URL:https://theboro.ca/event/mac-and-cheese-festival-grand-finale/
LOCATION:Quaker Foods City Square\, 215 Charlotte St.\, Peterborough\, ON\, K9J 0A2\, Canada
CATEGORIES:Do Events,Eat Events
ATTACH;FMTTYPE=image/jpeg:https://theboro.ca/wp-content/uploads/2026/04/A7C01675.jpg
END:VEVENT
END:VCALENDAR